BEGIN:VCALENDAR
VERSION:2.0
PRODID:spatie/icalendar-generator
DESCRIPTION:Events from Iglesia de Dios El Renuevo
X-WR-CALDESC:Events from Iglesia de Dios El Renuevo
REFRESH-INTERVAL;VALUE=DURATION:PT1440M
X-PUBLISHED-TTL:PT1440M
BEGIN:VTIMEZONE
TZID:Etc/GMT+5
BEGIN:STANDARD
DTSTART:20240903T090000Z
TZOFFSETFROM:-0500
TZOFFSETTO:-0500
END:STANDARD
END:VTIMEZONE
BEGIN:VTIMEZONE
TZID:UTC
BEGIN:STANDARD
DTSTART:20250729T184959Z
TZOFFSETFROM:+0000
TZOFFSETTO:+0000
END:STANDARD
END:VTIMEZONE
BEGIN:VEVENT
UID:476-391
DTSTAMP:20260425T184959Z
SUMMARY:Conferencia de Damas | Un Café con Dios
LOCATION:Iglesia de Dios El Renuevo 7209 Curry Ford Rd.  Suite G/H Orlando 
 FL 32822
ORGANIZER;CN=pconnectllc:MAILTO:pconnectllc@gmail.com
DTSTART;TZID=Etc/GMT+5:20250531T090000
DTEND;TZID=Etc/GMT+5:20250531T110000
X-ALT-DESC;FMTTYPE=TEXT/HTML:__________ Invocacion/ Lectura de la palabra: 
 Hrna. Amaryllis Devocional/ Coro de Ofrenda: Hrna. Yesenia Presentación d
 e la Conferencia: Hrna. Ana Veléz Conferencia: Hrna. Myrian Figueroa Clau
 sura: Hrna. Jeanette Rosado __________
CATEGORIES:General
URL;VALUE=URI:https://elrenuevoinc.org/mc-events/conferencia-de-damas-un-ca
 fe-con-dios/
METHOD:PUBLISH
END:VEVENT
END:VCALENDAR