BEGIN:VCALENDAR
VERSION:2.0
PRODID:spatie/icalendar-generator
DESCRIPTION:Events from Iglesia de Dios El Renuevo
X-WR-CALDESC:Events from Iglesia de Dios El Renuevo
REFRESH-INTERVAL;VALUE=DURATION:PT1440M
X-PUBLISHED-TTL:PT1440M
BEGIN:VTIMEZONE
TZID:Etc/GMT+5
BEGIN:STANDARD
DTSTART:20240918T100000Z
TZOFFSETFROM:-0500
TZOFFSETTO:-0500
END:STANDARD
END:VTIMEZONE
BEGIN:VTIMEZONE
TZID:UTC
BEGIN:STANDARD
DTSTART:20250729T114436Z
TZOFFSETFROM:+0000
TZOFFSETTO:+0000
END:STANDARD
END:VTIMEZONE
BEGIN:VEVENT
UID:480-395
DTSTAMP:20260425T114436Z
SUMMARY:Servicio Evangelístico | Hrna. Dinorah Boglio
LOCATION:Iglesia de Dios El Renuevo 7209 Curry Ford Rd.  Suite G/H Orlando 
 FL 32822
ORGANIZER;CN=pconnectllc:MAILTO:pconnectllc@gmail.com
DTSTART;TZID=Etc/GMT+5:20250615T100000
DTEND;TZID=Etc/GMT+5:20250615T130000
X-ALT-DESC;FMTTYPE=TEXT/HTML:___________ Inv./Lectura de la palabra: Hrna. 
 Gladys Tantao Dev./Coro de Ofrenda: Hrnas. Sheila - Frances - Glamaris - 
 Keila Presentación de predicador: Pastor Nowin Mojica Mensaje: Predicad
 ora Dinorah Boglio Parte especial: Directora Ana Vélez y Sociedad de Dam
 as  Clausura: Hrna Jeanette Rosado __________
CATEGORIES:General
URL;VALUE=URI:https://elrenuevoinc.org/mc-events/servicio-evangelistico-hrn
 a-dinorah-boglio/
METHOD:PUBLISH
END:VEVENT
END:VCALENDAR