BEGIN:VCALENDAR
VERSION:2.0
PRODID:spatie/icalendar-generator
DESCRIPTION:Events from Iglesia de Dios El Renuevo
X-WR-CALDESC:Events from Iglesia de Dios El Renuevo
REFRESH-INTERVAL;VALUE=DURATION:PT1440M
X-PUBLISHED-TTL:PT1440M
BEGIN:VTIMEZONE
TZID:Etc/GMT+5
BEGIN:STANDARD
DTSTART:20240910T000000Z
TZOFFSETFROM:-0500
TZOFFSETTO:-0500
END:STANDARD
END:VTIMEZONE
BEGIN:VTIMEZONE
TZID:UTC
BEGIN:STANDARD
DTSTART:20250729T163111Z
TZOFFSETFROM:+0000
TZOFFSETTO:+0000
END:STANDARD
END:VTIMEZONE
BEGIN:VEVENT
UID:488-403
DTSTAMP:20260425T163111Z
SUMMARY:Actividad Dia de los Padres
LOCATION:
ORGANIZER;CN=pconnectllc:MAILTO:pconnectllc@gmail.com
DTSTART;TZID=Etc/GMT+5;VALUE=DATE:20250607
DTEND;TZID=Etc/GMT+5;VALUE=DATE:20250608
X-ALT-DESC;FMTTYPE=TEXT/HTML:Picnic - Celebrar el dia de Padres\,  se le e
 stara dando más información mas adelante.
CATEGORIES:General
URL;VALUE=URI:https://elrenuevoinc.org/mc-events/actividad-dia-de-los-padre
 s/
METHOD:PUBLISH
END:VEVENT
END:VCALENDAR