BEGIN:VCALENDAR
VERSION:2.0
PRODID:spatie/icalendar-generator
DESCRIPTION:Events from Iglesia de Dios El Renuevo
X-WR-CALDESC:Events from Iglesia de Dios El Renuevo
REFRESH-INTERVAL;VALUE=DURATION:PT1440M
X-PUBLISHED-TTL:PT1440M
BEGIN:VTIMEZONE
TZID:Etc/GMT+5
BEGIN:STANDARD
DTSTART:20241112T000000Z
TZOFFSETFROM:-0500
TZOFFSETTO:-0500
END:STANDARD
END:VTIMEZONE
BEGIN:VTIMEZONE
TZID:UTC
BEGIN:STANDARD
DTSTART:20250728T122743Z
TZOFFSETFROM:+0000
TZOFFSETTO:+0000
END:STANDARD
END:VTIMEZONE
BEGIN:VEVENT
UID:502-405
DTSTAMP:20260424T122743Z
SUMMARY:Salida de Jóvenes
LOCATION:
ORGANIZER;CN=pconnectllc:MAILTO:pconnectllc@gmail.com
DTSTART;TZID=Etc/GMT+5;VALUE=DATE:20250809
DTEND;TZID=Etc/GMT+5;VALUE=DATE:20250810
X-ALT-DESC;FMTTYPE=TEXT/HTML:Más información se estara presentando.
CATEGORIES:General
URL;VALUE=URI:https://elrenuevoinc.org/mc-events/salida-de-jovenes/
METHOD:PUBLISH
END:VEVENT
END:VCALENDAR