BEGIN:VCALENDAR
VERSION:2.0
PRODID:spatie/icalendar-generator
DESCRIPTION:Events from Iglesia de Dios El Renuevo
X-WR-CALDESC:Events from Iglesia de Dios El Renuevo
REFRESH-INTERVAL;VALUE=DURATION:PT1440M
X-PUBLISHED-TTL:PT1440M
BEGIN:VTIMEZONE
TZID:Etc/GMT+5
BEGIN:STANDARD
DTSTART:20250610T160000Z
TZOFFSETFROM:-0500
TZOFFSETTO:-0500
END:STANDARD
END:VTIMEZONE
BEGIN:VTIMEZONE
TZID:UTC
BEGIN:STANDARD
DTSTART:20250728T035646Z
TZOFFSETFROM:+0000
TZOFFSETTO:+0000
END:STANDARD
END:VTIMEZONE
BEGIN:VEVENT
UID:515-429
DTSTAMP:20260424T035646Z
SUMMARY:Servicio en Hogar de Michelle y Waldy
LOCATION:
ORGANIZER;CN=pconnectllc:MAILTO:pconnectllc@gmail.com
DTSTART;TZID=Etc/GMT+5:20260307T160000
DTEND;TZID=Etc/GMT+5:20260307T180000
X-ALT-DESC;FMTTYPE=TEXT/HTML:___________ Inv./Lectura de la palabra: Hrna. 
 Yomalisse Devocional: Noemi y Joe Vega Presentación de predicador: Pasto
 r Nowin Mojica Mensaje: Evang. Martha Cabrera Clausura: Hrna. Amarylis _
 _________
CATEGORIES:General
URL;VALUE=URI:https://elrenuevoinc.org/mc-events/servicio-en-hogar-de-miche
 lle-y-waldy/
METHOD:PUBLISH
END:VEVENT
END:VCALENDAR