BEGIN:VCALENDAR
VERSION:2.0
PRODID:spatie/icalendar-generator
DESCRIPTION:Events from Iglesia de Dios El Renuevo
X-WR-CALDESC:Events from Iglesia de Dios El Renuevo
REFRESH-INTERVAL;VALUE=DURATION:PT1440M
X-PUBLISHED-TTL:PT1440M
BEGIN:VTIMEZONE
TZID:Etc/GMT+5
BEGIN:STANDARD
DTSTART:20250611T100000Z
TZOFFSETFROM:-0500
TZOFFSETTO:-0500
END:STANDARD
END:VTIMEZONE
BEGIN:VTIMEZONE
TZID:UTC
BEGIN:STANDARD
DTSTART:20250728T052914Z
TZOFFSETFROM:+0000
TZOFFSETTO:+0000
END:STANDARD
END:VTIMEZONE
BEGIN:VEVENT
UID:516-430
DTSTAMP:20260424T052914Z
SUMMARY:Servicio Evangelístico
LOCATION:Iglesia de Dios El Renuevo 7209 Curry Ford Rd.  Suite G/H Orlando 
 FL 32822
ORGANIZER;CN=pconnectllc:MAILTO:pconnectllc@gmail.com
DTSTART;TZID=Etc/GMT+5:20260308T100000
DTEND;TZID=Etc/GMT+5:20260308T130000
X-ALT-DESC;FMTTYPE=TEXT/HTML:___________ Inv./Lectura de la palabra: Hrno. 
 Mario Trejo Dev./Coro de Ofrenda: Sheila / Keila / Frances / Yesenia / Jo
 slianiz Presentación de predicador: Pastor Nowin Mojica Mensaje: Evang.
  Michael Franco Clausura: Hrna. Aida Rodríguez __________
CATEGORIES:General
URL;VALUE=URI:https://elrenuevoinc.org/mc-events/servicio-evangelistico-5/
METHOD:PUBLISH
END:VEVENT
END:VCALENDAR