BEGIN:VCALENDAR
VERSION:2.0
PRODID:spatie/icalendar-generator
DESCRIPTION:Events from Iglesia de Dios El Renuevo
X-WR-CALDESC:Events from Iglesia de Dios El Renuevo
REFRESH-INTERVAL;VALUE=DURATION:PT1440M
X-PUBLISHED-TTL:PT1440M
BEGIN:VTIMEZONE
TZID:Etc/GMT+5
BEGIN:STANDARD
DTSTART:20250630T193000Z
TZOFFSETFROM:-0500
TZOFFSETTO:-0500
END:STANDARD
END:VTIMEZONE
BEGIN:VTIMEZONE
TZID:UTC
BEGIN:STANDARD
DTSTART:20250727T182825Z
TZOFFSETFROM:+0000
TZOFFSETTO:+0000
END:STANDARD
END:VTIMEZONE
BEGIN:VEVENT
UID:521-435
DTSTAMP:20260423T182825Z
SUMMARY:Servicio de Caballeros
LOCATION:Iglesia de Dios El Renuevo 7209 Curry Ford Rd.  Suite G/H Orlando 
 FL 32822
ORGANIZER;CN=pconnectllc:MAILTO:pconnectllc@gmail.com
DTSTART;TZID=Etc/GMT+5:20260327T193000
DTEND;TZID=Etc/GMT+5:20260327T210000
X-ALT-DESC;FMTTYPE=TEXT/HTML:___________ Inv./Lectura de la palabra: Hrno. 
 Carlos Dávila Dev./Coro de Ofrenda: Hrno. Michael Franco Parte Especial:
  Hrno. Pedro Vargas Presentación de predicador: Hrno. Mario Trejo Mensa
 je: Hrno. Alex Salvador Clausura: Hrno. Gabriel Medal __________
CATEGORIES:General
URL;VALUE=URI:https://elrenuevoinc.org/mc-events/servicio-de-caballeros-2/
METHOD:PUBLISH
END:VEVENT
END:VCALENDAR