BEGIN:VCALENDAR
VERSION:2.0
PRODID:spatie/icalendar-generator
DESCRIPTION:Events from Iglesia de Dios El Renuevo
X-WR-CALDESC:Events from Iglesia de Dios El Renuevo
REFRESH-INTERVAL;VALUE=DURATION:PT1440M
X-PUBLISHED-TTL:PT1440M
BEGIN:VTIMEZONE
TZID:Etc/GMT+5
BEGIN:STANDARD
DTSTART:20250701T160000Z
TZOFFSETFROM:-0500
TZOFFSETTO:-0500
END:STANDARD
END:VTIMEZONE
BEGIN:VTIMEZONE
TZID:UTC
BEGIN:STANDARD
DTSTART:20250727T171341Z
TZOFFSETFROM:+0000
TZOFFSETTO:+0000
END:STANDARD
END:VTIMEZONE
BEGIN:VEVENT
UID:522-436
DTSTAMP:20260423T171341Z
SUMMARY:Servicio en Hogar
LOCATION:
ORGANIZER;CN=pconnectllc:MAILTO:pconnectllc@gmail.com
DTSTART;TZID=Etc/GMT+5:20260328T160000
DTEND;TZID=Etc/GMT+5:20260328T180000
X-ALT-DESC;FMTTYPE=TEXT/HTML:___________ Inv./Lectura de la palabra: Hrna. 
 Myrian Figueroa Devocional: Hrna. Glamaris Rivera Presentación de predic
 ador: Pastor Nowin Mojica Mensaje: Evang. Noemi Vega Clausura: Hrna. An
 a Vélez __________
CATEGORIES:General
URL;VALUE=URI:https://elrenuevoinc.org/mc-events/servicio-en-hogar/
METHOD:PUBLISH
END:VEVENT
END:VCALENDAR