BEGIN:VCALENDAR
VERSION:2.0
PRODID:spatie/icalendar-generator
DESCRIPTION:Events from Iglesia de Dios El Renuevo
X-WR-CALDESC:Events from Iglesia de Dios El Renuevo
REFRESH-INTERVAL;VALUE=DURATION:PT1440M
X-PUBLISHED-TTL:PT1440M
BEGIN:VTIMEZONE
TZID:Etc/GMT+5
BEGIN:STANDARD
DTSTART:20250715T153000Z
TZOFFSETFROM:-0500
TZOFFSETTO:-0500
END:STANDARD
END:VTIMEZONE
BEGIN:VTIMEZONE
TZID:UTC
BEGIN:STANDARD
DTSTART:20250727T142115Z
TZOFFSETFROM:+0000
TZOFFSETTO:+0000
END:STANDARD
END:VTIMEZONE
BEGIN:VEVENT
UID:533-444
DTSTAMP:20260423T142115Z
SUMMARY:Servicio en Hogar | David y Yohana
LOCATION:
ORGANIZER;CN=pconnectllc:MAILTO:pconnectllc@gmail.com
DTSTART;TZID=Etc/GMT+5:20260411T153000
DTEND;TZID=Etc/GMT+5:20260411T180000
X-ALT-DESC;FMTTYPE=TEXT/HTML:___________ Invocación / Lectura de la palabr
 a:  Hrna. Yomalisse Diaz Devocional /Coro de Ofrenda: Hrna. Myrian Figu
 eroa Parte Especial: Hrna. Yesenia Castillo Presentación de la predicado
 ra: Pastor Nowin Mojica Mensaje: Hrna. Dinorah Boglio Clausura: Hrna. A
 na Vélez __________ &amp;nbsp\;
CATEGORIES:General
URL;VALUE=URI:https://elrenuevoinc.org/mc-events/servicio-en-hogar-david-y-
 yohana/
METHOD:PUBLISH
END:VEVENT
END:VCALENDAR