BEGIN:VCALENDAR
VERSION:2.0
PRODID:spatie/icalendar-generator
DESCRIPTION:Events from Iglesia de Dios El Renuevo
X-WR-CALDESC:Events from Iglesia de Dios El Renuevo
REFRESH-INTERVAL;VALUE=DURATION:PT1440M
X-PUBLISHED-TTL:PT1440M
BEGIN:VTIMEZONE
TZID:Etc/GMT+5
BEGIN:STANDARD
DTSTART:20250721T193000Z
TZOFFSETFROM:-0500
TZOFFSETTO:-0500
END:STANDARD
END:VTIMEZONE
BEGIN:VTIMEZONE
TZID:UTC
BEGIN:STANDARD
DTSTART:20250727T142249Z
TZOFFSETFROM:+0000
TZOFFSETTO:+0000
END:STANDARD
END:VTIMEZONE
BEGIN:VEVENT
UID:535-446
DTSTAMP:20260423T142249Z
SUMMARY:Servicio de Caballeros
LOCATION:Iglesia de Dios El Renuevo 7209 Curry Ford Rd.  Suite G/H Orlando 
 FL 32822
ORGANIZER;CN=pconnectllc:MAILTO:pconnectllc@gmail.com
DTSTART;TZID=Etc/GMT+5:20260417T193000
DTEND;TZID=Etc/GMT+5:20260417T210000
X-ALT-DESC;FMTTYPE=TEXT/HTML:___________ Invocación / Lectura de la palabr
 a:  Hrno. Rolando Boglio Devocional /Coro de Ofrenda: Pastor Mojica Par
 te Especial: Hrno. Gaby Medal Presentación de la predicadora: Hrno. Mar
 io Trejo Mensaje: Hrno. José Portella Clausura: Hrno. Jadiel Vega _____
 _____
CATEGORIES:General
URL;VALUE=URI:https://elrenuevoinc.org/mc-events/servicio-de-caballeros-3/
METHOD:PUBLISH
END:VEVENT
END:VCALENDAR