BEGIN:VCALENDAR
VERSION:2.0
PRODID:spatie/icalendar-generator
DESCRIPTION:Events from Iglesia de Dios El Renuevo
X-WR-CALDESC:Events from Iglesia de Dios El Renuevo
REFRESH-INTERVAL;VALUE=DURATION:PT1440M
X-PUBLISHED-TTL:PT1440M
BEGIN:VTIMEZONE
TZID:Etc/GMT+5
BEGIN:STANDARD
DTSTART:20250728T200000Z
TZOFFSETFROM:-0500
TZOFFSETTO:-0500
END:STANDARD
END:VTIMEZONE
BEGIN:VTIMEZONE
TZID:UTC
BEGIN:STANDARD
DTSTART:20250727T141721Z
TZOFFSETFROM:+0000
TZOFFSETTO:+0000
END:STANDARD
END:VTIMEZONE
BEGIN:VEVENT
UID:537-448
DTSTAMP:20260423T141721Z
SUMMARY:Noche de Alabanza
LOCATION:Iglesia de Dios El Renuevo 7209 Curry Ford Rd.  Suite G/H Orlando 
 FL 32822
ORGANIZER;CN=pconnectllc:MAILTO:pconnectllc@gmail.com
DTSTART;TZID=Etc/GMT+5:20260424T200000
DTEND;TZID=Etc/GMT+5:20260424T220000
X-ALT-DESC;FMTTYPE=TEXT/HTML:___________ Invocación / Lectura de la palabr
 a:  Hrna. Ana Vélez Devocional /Coro de Ofrenda: Marilyn\, Pastora\, S
 heila Parte Especial: Hrna. Jennifer / Hrna. Lourdes Presentación de la 
 predicadora: Pastor Nowin Mojica Mensaje: Hrno. Carlitos Pérez Clausura
 : Hrna. Jeanette Rosado __________
CATEGORIES:General
URL;VALUE=URI:https://elrenuevoinc.org/mc-events/noche-de-alabanza/
METHOD:PUBLISH
END:VEVENT
END:VCALENDAR