BEGIN:VCALENDAR
VERSION:2.0
PRODID:spatie/icalendar-generator
DESCRIPTION:Events from Iglesia de Dios El Renuevo
X-WR-CALDESC:Events from Iglesia de Dios El Renuevo
REFRESH-INTERVAL;VALUE=DURATION:PT1440M
X-PUBLISHED-TTL:PT1440M
BEGIN:VTIMEZONE
TZID:Etc/GMT+5
BEGIN:STANDARD
DTSTART:20240923T193000Z
TZOFFSETFROM:-0500
TZOFFSETTO:-0500
END:STANDARD
END:VTIMEZONE
BEGIN:VTIMEZONE
TZID:UTC
BEGIN:STANDARD
DTSTART:20250729T115449Z
TZOFFSETFROM:+0000
TZOFFSETTO:+0000
END:STANDARD
END:VTIMEZONE
BEGIN:VEVENT
UID:481-396
DTSTAMP:20260425T115449Z
SUMMARY:Servicio de Jóvenes | Hrna. Keila Mojica
LOCATION:Iglesia de Dios El Renuevo 7209 Curry Ford Rd.  Suite G/H Orlando 
 FL 32822
ORGANIZER;CN=pconnectllc:MAILTO:pconnectllc@gmail.com
DTSTART;TZID=Etc/GMT+5:20250620T193000
DTEND;TZID=Etc/GMT+5:20250620T210000
X-ALT-DESC;FMTTYPE=TEXT/HTML:___________ Inv./Lectura de la palabra: Hrna. 
 Katie Trejo Dev./Coro de Ofrenda: Hrnas. Joaida - Glamaris Parte especial
 : Hrna. Kristie Presentación de predicador: Hrna. Keishla Mojica Mensaj
 e: Predicadora Keila Mojica Clausura: Hrno. David Ofrenda: Hrna. Maylis
 se __________
CATEGORIES:General
URL;VALUE=URI:https://elrenuevoinc.org/mc-events/servicio-de-jovenes-hrna-k
 eila-mojica/
METHOD:PUBLISH
END:VEVENT
END:VCALENDAR