BEGIN:VCALENDAR
VERSION:2.0
PRODID:spatie/icalendar-generator
DESCRIPTION:Events from Iglesia de Dios El Renuevo
X-WR-CALDESC:Events from Iglesia de Dios El Renuevo
REFRESH-INTERVAL;VALUE=DURATION:PT1440M
X-PUBLISHED-TTL:PT1440M
BEGIN:VTIMEZONE
TZID:Etc/GMT+5
BEGIN:STANDARD
DTSTART:20250609T193000Z
TZOFFSETFROM:-0500
TZOFFSETTO:-0500
END:STANDARD
END:VTIMEZONE
BEGIN:VTIMEZONE
TZID:UTC
BEGIN:STANDARD
DTSTART:20250728T035900Z
TZOFFSETFROM:+0000
TZOFFSETTO:+0000
END:STANDARD
END:VTIMEZONE
BEGIN:VEVENT
UID:514-428
DTSTAMP:20260424T035900Z
SUMMARY:Servicio de Damas
LOCATION:Iglesia de Dios El Renuevo 7209 Curry Ford Rd.  Suite G/H Orlando 
 FL 32822
ORGANIZER;CN=pconnectllc:MAILTO:pconnectllc@gmail.com
DTSTART;TZID=Etc/GMT+5:20260306T193000
DTEND;TZID=Etc/GMT+5:20260306T210000
X-ALT-DESC;FMTTYPE=TEXT/HTML:___________ Inv./Lectura de la palabra: Hrna. 
 Jeanette Dev./Coro de Ofrenda: Pastora Lisy Parte Especial: Hrna. Glamar
 is Rivera Presentación de predicador: Hrna. Ana Mensaje: Hrna. Yomaliss
 e Salvador Clausura: Hrna. Aida Rodríguez __________
CATEGORIES:General
URL;VALUE=URI:https://elrenuevoinc.org/mc-events/servicio-de-damas-2/
METHOD:PUBLISH
END:VEVENT
END:VCALENDAR