BEGIN:VCALENDAR
VERSION:2.0
PRODID:spatie/icalendar-generator
DESCRIPTION:Events from Iglesia de Dios El Renuevo
X-WR-CALDESC:Events from Iglesia de Dios El Renuevo
REFRESH-INTERVAL;VALUE=DURATION:PT1440M
X-PUBLISHED-TTL:PT1440M
BEGIN:VTIMEZONE
TZID:Etc/GMT+5
BEGIN:STANDARD
DTSTART:20250623T193000Z
TZOFFSETFROM:-0500
TZOFFSETTO:-0500
END:STANDARD
END:VTIMEZONE
BEGIN:VTIMEZONE
TZID:UTC
BEGIN:STANDARD
DTSTART:20250728T015636Z
TZOFFSETFROM:+0000
TZOFFSETTO:+0000
END:STANDARD
END:VTIMEZONE
BEGIN:VEVENT
UID:519-433
DTSTAMP:20260424T015636Z
SUMMARY:Noche de Alabanza
LOCATION:Iglesia de Dios El Renuevo 7209 Curry Ford Rd.  Suite G/H Orlando 
 FL 32822
ORGANIZER;CN=pconnectllc:MAILTO:pconnectllc@gmail.com
DTSTART;TZID=Etc/GMT+5:20260320T193000
DTEND;TZID=Etc/GMT+5:20260320T203000
X-ALT-DESC;FMTTYPE=TEXT/HTML:___________ Inv./Lectura de la palabra: Hrna. 
 Keila Salvador Dev./Coro de Ofrenda: Hrno. Carlitos Pérez Parte Especial
 : Hrno. José Portella Presentación de predicador: Pastor Nowin Mojica 
 Mensaje: Hrno. Rolando Boglio Clausura: Hrno. Pedro Vargas __________
CATEGORIES:General
URL;VALUE=URI:https://elrenuevoinc.org/mc-events/noche-de-alabanza-2/
METHOD:PUBLISH
END:VEVENT
END:VCALENDAR