BEGIN:VCALENDAR
VERSION:2.0
PRODID:spatie/icalendar-generator
DESCRIPTION:Events from Iglesia de Dios El Renuevo
X-WR-CALDESC:Events from Iglesia de Dios El Renuevo
REFRESH-INTERVAL;VALUE=DURATION:PT1440M
X-PUBLISHED-TTL:PT1440M
BEGIN:VTIMEZONE
TZID:Etc/GMT+5
BEGIN:STANDARD
DTSTART:20250625T090000Z
TZOFFSETFROM:-0500
TZOFFSETTO:-0500
END:STANDARD
END:VTIMEZONE
BEGIN:VTIMEZONE
TZID:UTC
BEGIN:STANDARD
DTSTART:20250727T225732Z
TZOFFSETFROM:+0000
TZOFFSETTO:+0000
END:STANDARD
END:VTIMEZONE
BEGIN:VEVENT
UID:527-438
DTSTAMP:20260423T225732Z
SUMMARY:Campaña de Oración
LOCATION:Iglesia de Dios El Renuevo 7209 Curry Ford Rd.  Suite G/H Orlando 
 FL 32822
ORGANIZER;CN=pconnectllc:MAILTO:pconnectllc@gmail.com
RRULE:FREQ=WEEKLY;UNTIL=20260329T000000Z
DTSTART;TZID=Etc/GMT+5:20260322T090000
DTEND;TZID=Etc/GMT+5:20260322T095000
X-ALT-DESC;FMTTYPE=TEXT/HTML:Todos los Domingos
CATEGORIES:General
URL;VALUE=URI:https://elrenuevoinc.org/mc-events/campana-de-oracion/?mc_id=
 527
METHOD:PUBLISH
END:VEVENT
END:VCALENDAR