BEGIN:VCALENDAR
VERSION:2.0
PRODID:spatie/icalendar-generator
DESCRIPTION:Events from Iglesia de Dios El Renuevo
X-WR-CALDESC:Events from Iglesia de Dios El Renuevo
REFRESH-INTERVAL;VALUE=DURATION:PT1440M
X-PUBLISHED-TTL:PT1440M
BEGIN:VTIMEZONE
TZID:Etc/GMT+5
BEGIN:STANDARD
DTSTART:20250714T193000Z
TZOFFSETFROM:-0500
TZOFFSETTO:-0500
END:STANDARD
END:VTIMEZONE
BEGIN:VTIMEZONE
TZID:UTC
BEGIN:STANDARD
DTSTART:20250727T165415Z
TZOFFSETFROM:+0000
TZOFFSETTO:+0000
END:STANDARD
END:VTIMEZONE
BEGIN:VEVENT
UID:532-443
DTSTAMP:20260423T165415Z
SUMMARY:Servicio de Jóvenes
LOCATION:Iglesia de Dios El Renuevo 7209 Curry Ford Rd.  Suite G/H Orlando 
 FL 32822
ORGANIZER;CN=pconnectllc:MAILTO:pconnectllc@gmail.com
DTSTART;TZID=Etc/GMT+5:20260410T193000
DTEND;TZID=Etc/GMT+5:20260410T210000
X-ALT-DESC;FMTTYPE=TEXT/HTML:___________ Inv./Lectura de la palabra: Hrno. 
 David  Dev./Coro de Ofrenda: Kristy/ Katie/ Daleyza Parte Especial: Hrn
 a. Maylisse Presentación de predicador: Hrna. Keishla Mojica Mensaje: H
 rna. Glamaris Rivera Clausura: Hrno. Marcos Franco Ofrenda: Yarisbeth / 
 Isaiah __________
CATEGORIES:General
URL;VALUE=URI:https://elrenuevoinc.org/mc-events/servicio-de-jovenes-3/
METHOD:PUBLISH
END:VEVENT
END:VCALENDAR