BEGIN:VCALENDAR
VERSION:2.0
PRODID:spatie/icalendar-generator
DESCRIPTION:Events from Iglesia de Dios El Renuevo
X-WR-CALDESC:Events from Iglesia de Dios El Renuevo
REFRESH-INTERVAL;VALUE=DURATION:PT1440M
X-PUBLISHED-TTL:PT1440M
BEGIN:VTIMEZONE
TZID:Etc/GMT+5
BEGIN:STANDARD
DTSTART:20250716T100000Z
TZOFFSETFROM:-0500
TZOFFSETTO:-0500
END:STANDARD
END:VTIMEZONE
BEGIN:VTIMEZONE
TZID:UTC
BEGIN:STANDARD
DTSTART:20250727T125042Z
TZOFFSETFROM:+0000
TZOFFSETTO:+0000
END:STANDARD
END:VTIMEZONE
BEGIN:VEVENT
UID:534-445
DTSTAMP:20260423T125042Z
SUMMARY:Servicio Evangelistico
LOCATION:Iglesia de Dios El Renuevo 7209 Curry Ford Rd.  Suite G/H Orlando 
 FL 32822
ORGANIZER;CN=pconnectllc:MAILTO:pconnectllc@gmail.com
DTSTART;TZID=Etc/GMT+5:20260412T100000
DTEND;TZID=Etc/GMT+5:20260412T130000
X-ALT-DESC;FMTTYPE=TEXT/HTML:___________ Invocación / Lectura de la palabr
 a:  Hrno. Felix Diaz Devocional /Coro de Ofrenda: Hrna. Keila\, Sheila\
 , Joslianiz\, Glamaris Presentación de la predicadora: Pastor Nowin Moji
 ca Mensaje: Predicador Victor Mojica Clausura: Hrno. Pablo Soto ________
 __
CATEGORIES:General
URL;VALUE=URI:https://elrenuevoinc.org/mc-events/servicio-evangelistico-10/
METHOD:PUBLISH
END:VEVENT
END:VCALENDAR